Package: MicrobiomeProfiler Version: 1.15.0 Command: /Library/Frameworks/R.framework/Resources/bin/R CMD check --install=check:MicrobiomeProfiler.install-out.txt --library=/Library/Frameworks/R.framework/Resources/library --no-vignettes --timings MicrobiomeProfiler_1.15.0.tar.gz StartedAt: 2025-10-03 20:23:05 -0400 (Fri, 03 Oct 2025) EndedAt: 2025-10-03 20:24:12 -0400 (Fri, 03 Oct 2025) EllapsedTime: 66.8 seconds RetCode: 0 Status: OK CheckDir: MicrobiomeProfiler.Rcheck Warnings: 0