Package: MiRaGE Version: 1.51.0 Command: /home/biocbuild/bbs-3.22-bioc/R/bin/R CMD INSTALL MiRaGE StartedAt: 2025-07-13 15:56:38 -0400 (Sun, 13 Jul 2025) EndedAt: 2025-07-13 15:56:50 -0400 (Sun, 13 Jul 2025) EllapsedTime: 12.2 seconds RetCode: 0 Status: OK