Package: MiRaGE Version: 1.51.0 Command: /home/biocbuild/bbs-3.22-bioc/R/bin/R CMD check --install=check:MiRaGE.install-out.txt --library=/home/biocbuild/bbs-3.22-bioc/R/site-library --timings MiRaGE_1.51.0.tar.gz StartedAt: 2025-07-14 00:02:31 -0400 (Mon, 14 Jul 2025) EndedAt: 2025-07-14 00:04:53 -0400 (Mon, 14 Jul 2025) EllapsedTime: 142.1 seconds RetCode: 0 Status: WARNINGS CheckDir: MiRaGE.Rcheck Warnings: 1