Package: MiRaGE Version: 1.51.0 Command: /home/biocbuild/bbs-3.22-bioc/R/bin/R CMD build --keep-empty-dirs --no-resave-data --md5 MiRaGE StartedAt: 2025-07-13 18:03:22 -0400 (Sun, 13 Jul 2025) EndedAt: 2025-07-13 18:04:21 -0400 (Sun, 13 Jul 2025) EllapsedTime: 59.0 seconds RetCode: 0 Status: OK PackageFile: MiRaGE_1.51.0.tar.gz PackageFileSize: 1.314 MiB