Package: MiRaGE Version: 1.51.0 Command: /Library/Frameworks/R.framework/Resources/bin/R CMD check --install=check:MiRaGE.install-out.txt --library=/Library/Frameworks/R.framework/Resources/library --no-vignettes --timings MiRaGE_1.51.0.tar.gz StartedAt: 2025-07-21 21:57:30 -0400 (Mon, 21 Jul 2025) EndedAt: 2025-07-21 21:59:25 -0400 (Mon, 21 Jul 2025) EllapsedTime: 114.6 seconds RetCode: 0 Status: WARNINGS CheckDir: MiRaGE.Rcheck Warnings: 1