Package: MiRaGE Version: 1.51.0 Command: rm -rf MiRaGE.buildbin-libdir && mkdir MiRaGE.buildbin-libdir && /Users/biocbuild/BBS/utils/build-universal.sh MiRaGE_1.51.0.tar.gz /Library/Frameworks/R.framework/Resources/bin/R MiRaGE.buildbin-libdir StartedAt: 2025-07-21 01:12:30 -0400 (Mon, 21 Jul 2025) EndedAt: 2025-07-21 01:12:49 -0400 (Mon, 21 Jul 2025) EllapsedTime: 19.7 seconds RetCode: 0 Status: OK PackageFile: MiRaGE_1.51.0.tgz PackageFileSize: 1.351 MiB