Package: MiPP Version: 1.81.0 Command: /home/biocbuild/bbs-3.22-bioc/R/bin/R CMD INSTALL MiPP StartedAt: 2025-06-26 15:11:21 -0400 (Thu, 26 Jun 2025) EndedAt: 2025-06-26 15:11:25 -0400 (Thu, 26 Jun 2025) EllapsedTime: 4.0 seconds RetCode: 0 Status: OK