Package: MiPP Version: 1.81.0 Command: /home/biocbuild/bbs-3.22-bioc/R/bin/R CMD build --keep-empty-dirs --no-resave-data --md5 MiPP StartedAt: 2025-07-15 18:02:24 -0400 (Tue, 15 Jul 2025) EndedAt: 2025-07-15 18:02:31 -0400 (Tue, 15 Jul 2025) EllapsedTime: 7.0 seconds RetCode: 0 Status: OK PackageFile: MiPP_1.81.0.tar.gz PackageFileSize: 411.1 KiB