Package: MiPP Version: 1.81.0 Command: /Library/Frameworks/R.framework/Resources/bin/R CMD INSTALL MiPP StartedAt: 2025-07-14 15:07:26 -0400 (Mon, 14 Jul 2025) EndedAt: 2025-07-14 15:07:28 -0400 (Mon, 14 Jul 2025) EllapsedTime: 2.4 seconds RetCode: 0 Status: OK