Package: MiPP Version: 1.81.0 Command: /Library/Frameworks/R.framework/Resources/bin/R CMD check --install=check:MiPP.install-out.txt --library=/Library/Frameworks/R.framework/Resources/library --no-vignettes --timings MiPP_1.81.0.tar.gz StartedAt: 2025-07-14 20:08:47 -0400 (Mon, 14 Jul 2025) EndedAt: 2025-07-14 20:09:16 -0400 (Mon, 14 Jul 2025) EllapsedTime: 29.3 seconds RetCode: 0 Status: OK CheckDir: MiPP.Rcheck Warnings: 0