Package: MiPP Version: 1.81.0 Command: /Library/Frameworks/R.framework/Resources/bin/R CMD build --keep-empty-dirs --no-resave-data MiPP StartedAt: 2025-07-14 16:55:17 -0400 (Mon, 14 Jul 2025) EndedAt: 2025-07-14 16:55:22 -0400 (Mon, 14 Jul 2025) EllapsedTime: 5.1 seconds RetCode: 0 Status: OK PackageFile: MiPP_1.81.0.tar.gz PackageFileSize: 409.7 KiB