Package: Mfuzz Version: 2.69.0 Command: chmod a+r Mfuzz -R && F:\biocbuild\bbs-3.22-bioc\R\bin\R.exe CMD build --keep-empty-dirs --no-resave-data Mfuzz StartedAt: 2025-07-24 20:31:02 -0400 (Thu, 24 Jul 2025) EndedAt: 2025-07-24 20:31:27 -0400 (Thu, 24 Jul 2025) EllapsedTime: 25.4 seconds RetCode: 0 Status: OK PackageFile: Mfuzz_2.69.0.tar.gz PackageFileSize: 668.7 KiB