Package: Mfuzz Version: 2.69.0 Command: /Library/Frameworks/R.framework/Resources/bin/R CMD INSTALL Mfuzz StartedAt: 2025-07-22 15:07:48 -0400 (Tue, 22 Jul 2025) EndedAt: 2025-07-22 15:07:51 -0400 (Tue, 22 Jul 2025) EllapsedTime: 3.2 seconds RetCode: 0 Status: OK