Package: Mfuzz Version: 2.69.0 Command: /Library/Frameworks/R.framework/Resources/bin/R CMD build --keep-empty-dirs --no-resave-data Mfuzz StartedAt: 2025-07-22 16:53:00 -0400 (Tue, 22 Jul 2025) EndedAt: 2025-07-22 16:53:10 -0400 (Tue, 22 Jul 2025) EllapsedTime: 9.1 seconds RetCode: 0 Status: OK PackageFile: Mfuzz_2.69.0.tar.gz PackageFileSize: 819.5 KiB