Package: Mfuzz Version: 2.69.0 Command: rm -rf Mfuzz.buildbin-libdir && mkdir Mfuzz.buildbin-libdir && /Users/biocbuild/BBS/utils/build-universal.sh Mfuzz_2.69.0.tar.gz /Library/Frameworks/R.framework/Resources/bin/R Mfuzz.buildbin-libdir StartedAt: 2025-07-22 22:30:47 -0400 (Tue, 22 Jul 2025) EndedAt: 2025-07-22 22:30:52 -0400 (Tue, 22 Jul 2025) EllapsedTime: 5.1 seconds RetCode: 0 Status: OK PackageFile: Mfuzz_2.69.0.tgz PackageFileSize: 853.4 KiB