Package: MethylSeekR Version: 1.49.0 Command: /home/biocbuild/R/R/bin/R CMD build --keep-empty-dirs --no-resave-data MethylSeekR StartedAt: 2025-07-01 00:58:28 -0000 (Tue, 01 Jul 2025) EndedAt: 2025-07-01 00:59:20 -0000 (Tue, 01 Jul 2025) EllapsedTime: 52.0 seconds RetCode: 1 Status: ERROR PackageFile: None PackageFileSize: NA