Package: MethylMix Version: 2.39.0 Command: F:\biocbuild\bbs-3.22-bioc\R\bin\R.exe CMD INSTALL MethylMix StartedAt: 2025-07-20 16:30:29 -0400 (Sun, 20 Jul 2025) EndedAt: 2025-07-20 16:30:55 -0400 (Sun, 20 Jul 2025) EllapsedTime: 26.4 seconds RetCode: 0 Status: OK