Package: MethylMix Version: 2.39.0 Command: chmod a+r MethylMix -R && F:\biocbuild\bbs-3.22-bioc\R\bin\R.exe CMD build --keep-empty-dirs --no-resave-data MethylMix StartedAt: 2025-07-20 20:13:38 -0400 (Sun, 20 Jul 2025) EndedAt: 2025-07-20 20:14:24 -0400 (Sun, 20 Jul 2025) EllapsedTime: 45.6 seconds RetCode: 0 Status: OK PackageFile: MethylMix_2.39.0.tar.gz PackageFileSize: 2.575 MiB