Package: MethylMix Version: 2.39.0 Command: rm -rf MethylMix.buildbin-libdir && mkdir MethylMix.buildbin-libdir && F:\biocbuild\bbs-3.22-bioc\R\bin\R.exe CMD INSTALL --build --library=MethylMix.buildbin-libdir MethylMix_2.39.0.tar.gz StartedAt: 2025-07-21 09:26:52 -0400 (Mon, 21 Jul 2025) EndedAt: 2025-07-21 09:27:19 -0400 (Mon, 21 Jul 2025) EllapsedTime: 27.2 seconds RetCode: 0 Status: OK PackageFile: MethylMix_2.39.0.zip PackageFileSize: 2.922 MiB