Package: MethylMix Version: 2.39.0 Command: /Library/Frameworks/R.framework/Resources/bin/R CMD check --install=check:MethylMix.install-out.txt --library=/Library/Frameworks/R.framework/Resources/library --no-vignettes --timings MethylMix_2.39.0.tar.gz StartedAt: 2025-07-07 20:02:50 -0400 (Mon, 07 Jul 2025) EndedAt: 2025-07-07 20:03:34 -0400 (Mon, 07 Jul 2025) EllapsedTime: 43.5 seconds RetCode: 0 Status: OK CheckDir: MethylMix.Rcheck Warnings: 0