Package: MethylMix Version: 2.39.0 Command: /Library/Frameworks/R.framework/Resources/bin/R CMD build --keep-empty-dirs --no-resave-data MethylMix StartedAt: 2025-07-07 16:49:38 -0400 (Mon, 07 Jul 2025) EndedAt: 2025-07-07 16:49:52 -0400 (Mon, 07 Jul 2025) EllapsedTime: 13.1 seconds RetCode: 0 Status: OK PackageFile: MethylMix_2.39.0.tar.gz PackageFileSize: 2.576 MiB