Package: MethylAid Version: 1.43.0 Command: /home/biocbuild/R/R/bin/R CMD build --keep-empty-dirs --no-resave-data MethylAid StartedAt: 2025-07-15 00:53:15 -0000 (Tue, 15 Jul 2025) EndedAt: 2025-07-15 00:56:56 -0000 (Tue, 15 Jul 2025) EllapsedTime: 221.1 seconds RetCode: 0 Status: OK PackageFile: MethylAid_1.43.0.tar.gz PackageFileSize: 3.003 MiB