Package: MethylAid Version: 1.43.0 Command: F:\biocbuild\bbs-3.22-bioc\R\bin\R.exe CMD check --no-multiarch --install=check:MethylAid.install-out.txt --library=F:\biocbuild\bbs-3.22-bioc\R\library --no-vignettes --timings MethylAid_1.43.0.tar.gz StartedAt: 2025-07-02 03:42:25 -0400 (Wed, 02 Jul 2025) EndedAt: 2025-07-02 03:58:50 -0400 (Wed, 02 Jul 2025) EllapsedTime: 985.8 seconds RetCode: 0 Status: OK CheckDir: MethylAid.Rcheck Warnings: 0