Package: MethylAid Version: 1.43.0 Command: /Library/Frameworks/R.framework/Resources/bin/R CMD INSTALL MethylAid StartedAt: 2025-07-16 15:21:12 -0400 (Wed, 16 Jul 2025) EndedAt: 2025-07-16 15:21:31 -0400 (Wed, 16 Jul 2025) EllapsedTime: 19.4 seconds RetCode: 0 Status: OK