Package: MethylAid Version: 1.43.0 Command: /Library/Frameworks/R.framework/Resources/bin/R CMD check --install=check:MethylAid.install-out.txt --library=/Library/Frameworks/R.framework/Resources/library --no-vignettes --timings MethylAid_1.43.0.tar.gz StartedAt: 2025-07-17 20:11:55 -0400 (Thu, 17 Jul 2025) EndedAt: 2025-07-17 20:15:45 -0400 (Thu, 17 Jul 2025) EllapsedTime: 230.7 seconds RetCode: 0 Status: OK CheckDir: MethylAid.Rcheck Warnings: 0