Package: MethylAid Version: 1.43.0 Command: /Library/Frameworks/R.framework/Resources/bin/R CMD build --keep-empty-dirs --no-resave-data MethylAid StartedAt: 2025-07-15 16:50:13 -0400 (Tue, 15 Jul 2025) EndedAt: 2025-07-15 16:51:40 -0400 (Tue, 15 Jul 2025) EllapsedTime: 87.0 seconds RetCode: 0 Status: OK PackageFile: MethylAid_1.43.0.tar.gz PackageFileSize: 3.011 MiB