Package: MethylAid Version: 1.43.0 Command: rm -rf MethylAid.buildbin-libdir && mkdir MethylAid.buildbin-libdir && /Users/biocbuild/BBS/utils/build-universal.sh MethylAid_1.43.0.tar.gz /Library/Frameworks/R.framework/Resources/bin/R MethylAid.buildbin-libdir StartedAt: 2025-07-16 22:24:11 -0400 (Wed, 16 Jul 2025) EndedAt: 2025-07-16 22:24:31 -0400 (Wed, 16 Jul 2025) EllapsedTime: 20.3 seconds RetCode: 0 Status: OK PackageFile: MethylAid_1.43.0.tgz PackageFileSize: 3.274 MiB