Package: MethTargetedNGS Version: 1.41.0 Command: /Library/Frameworks/R.framework/Resources/bin/R CMD build --keep-empty-dirs --no-resave-data MethTargetedNGS StartedAt: 2025-07-11 17:31:02 -0400 (Fri, 11 Jul 2025) EndedAt: 2025-07-11 17:31:30 -0400 (Fri, 11 Jul 2025) EllapsedTime: 27.4 seconds RetCode: 0 Status: OK PackageFile: MethTargetedNGS_1.41.0.tar.gz PackageFileSize: 282.5 KiB