Package: MethTargetedNGS Version: 1.41.0 Command: rm -rf MethTargetedNGS.buildbin-libdir && mkdir MethTargetedNGS.buildbin-libdir && /Users/biocbuild/BBS/utils/build-universal.sh MethTargetedNGS_1.41.0.tar.gz /Library/Frameworks/R.framework/Resources/bin/R MethTargetedNGS.buildbin-libdir StartedAt: 2025-07-12 01:04:52 -0400 (Sat, 12 Jul 2025) EndedAt: 2025-07-12 01:05:10 -0400 (Sat, 12 Jul 2025) EllapsedTime: 18.6 seconds RetCode: 0 Status: OK PackageFile: MethTargetedNGS_1.41.0.tgz PackageFileSize: 322.8 KiB