Package: MethReg Version: 1.19.0 Command: /home/biocbuild/R/R/bin/R CMD INSTALL MethReg StartedAt: 2025-06-26 21:14:11 -0000 (Thu, 26 Jun 2025) EndedAt: 2025-06-26 21:15:14 -0000 (Thu, 26 Jun 2025) EllapsedTime: 63.9 seconds RetCode: 0 Status: OK