Package: MethReg Version: 1.19.0 Command: /home/biocbuild/R/R/bin/R CMD check --install=check:MethReg.install-out.txt --library=/home/biocbuild/R/R/site-library --no-vignettes --timings MethReg_1.19.0.tar.gz StartedAt: 2025-06-27 08:56:02 -0000 (Fri, 27 Jun 2025) EndedAt: 2025-06-27 09:05:37 -0000 (Fri, 27 Jun 2025) EllapsedTime: 575.4 seconds RetCode: 0 Status: OK CheckDir: MethReg.Rcheck Warnings: 0