Package: MethReg Version: 1.19.0 Command: /home/biocbuild/R/R/bin/R CMD build --keep-empty-dirs --no-resave-data MethReg StartedAt: 2025-06-27 00:44:51 -0000 (Fri, 27 Jun 2025) EndedAt: 2025-06-27 00:56:30 -0000 (Fri, 27 Jun 2025) EllapsedTime: 699.2 seconds RetCode: 0 Status: OK PackageFile: MethReg_1.19.0.tar.gz PackageFileSize: 4.322 MiB