Package: MethReg Version: 1.19.0 Command: F:\biocbuild\bbs-3.22-bioc\R\bin\R.exe CMD INSTALL MethReg StartedAt: 2025-07-20 17:00:17 -0400 (Sun, 20 Jul 2025) EndedAt: 2025-07-20 17:01:18 -0400 (Sun, 20 Jul 2025) EllapsedTime: 61.3 seconds RetCode: 0 Status: OK