Package: MethReg Version: 1.19.0 Command: chmod a+r MethReg -R && F:\biocbuild\bbs-3.22-bioc\R\bin\R.exe CMD build --keep-empty-dirs --no-resave-data MethReg StartedAt: 2025-07-20 20:11:43 -0400 (Sun, 20 Jul 2025) EndedAt: 2025-07-20 20:23:55 -0400 (Sun, 20 Jul 2025) EllapsedTime: 731.1 seconds RetCode: 0 Status: OK PackageFile: MethReg_1.19.0.tar.gz PackageFileSize: 5.032 MiB