Package: MethReg Version: 1.19.0 Command: rm -rf MethReg.buildbin-libdir && mkdir MethReg.buildbin-libdir && F:\biocbuild\bbs-3.22-bioc\R\bin\R.exe CMD INSTALL --build --library=MethReg.buildbin-libdir MethReg_1.19.0.tar.gz StartedAt: 2025-07-21 09:26:23 -0400 (Mon, 21 Jul 2025) EndedAt: 2025-07-21 09:27:27 -0400 (Mon, 21 Jul 2025) EllapsedTime: 64.1 seconds RetCode: 0 Status: OK PackageFile: MethReg_1.19.0.zip PackageFileSize: 4.168 MiB