Package: MethReg Version: 1.19.0 Command: /Library/Frameworks/R.framework/Resources/bin/R CMD INSTALL MethReg StartedAt: 2025-07-11 15:26:51 -0400 (Fri, 11 Jul 2025) EndedAt: 2025-07-11 15:27:11 -0400 (Fri, 11 Jul 2025) EllapsedTime: 19.9 seconds RetCode: 0 Status: OK