Package: MethReg Version: 1.19.0 Command: /Library/Frameworks/R.framework/Resources/bin/R CMD check --install=check:MethReg.install-out.txt --library=/Library/Frameworks/R.framework/Resources/library --no-vignettes --timings MethReg_1.19.0.tar.gz StartedAt: 2025-07-11 20:04:09 -0400 (Fri, 11 Jul 2025) EndedAt: 2025-07-11 20:06:57 -0400 (Fri, 11 Jul 2025) EllapsedTime: 167.9 seconds RetCode: 0 Status: OK CheckDir: MethReg.Rcheck Warnings: 0