Package: MethReg Version: 1.19.0 Command: rm -rf MethReg.buildbin-libdir && mkdir MethReg.buildbin-libdir && /Users/biocbuild/BBS/utils/build-universal.sh MethReg_1.19.0.tar.gz /Library/Frameworks/R.framework/Resources/bin/R MethReg.buildbin-libdir StartedAt: 2025-07-11 22:25:46 -0400 (Fri, 11 Jul 2025) EndedAt: 2025-07-11 22:26:08 -0400 (Fri, 11 Jul 2025) EllapsedTime: 22.4 seconds RetCode: 0 Status: OK PackageFile: MethReg_1.19.0.tgz PackageFileSize: 4.516 MiB