Package: MethPed Version: 1.37.0 Command: /home/biocbuild/R/R/bin/R CMD INSTALL MethPed StartedAt: 2025-06-30 20:29:11 -0000 (Mon, 30 Jun 2025) EndedAt: 2025-06-30 20:29:20 -0000 (Mon, 30 Jun 2025) EllapsedTime: 9.1 seconds RetCode: 0 Status: OK