Package: MethPed Version: 1.37.0 Command: /home/biocbuild/R/R/bin/R CMD check --install=check:MethPed.install-out.txt --library=/home/biocbuild/R/R/site-library --no-vignettes --timings MethPed_1.37.0.tar.gz StartedAt: 2025-07-01 09:09:49 -0000 (Tue, 01 Jul 2025) EndedAt: 2025-07-01 09:13:08 -0000 (Tue, 01 Jul 2025) EllapsedTime: 199.2 seconds RetCode: 0 Status: OK CheckDir: MethPed.Rcheck Warnings: 0