Package: MetaNeighbor Version: 1.29.0 Command: rm -rf MetaNeighbor.buildbin-libdir && mkdir MetaNeighbor.buildbin-libdir && F:\biocbuild\bbs-3.22-bioc\R\bin\R.exe CMD INSTALL --build --library=MetaNeighbor.buildbin-libdir MetaNeighbor_1.29.0.tar.gz StartedAt: 2025-07-25 09:38:35 -0400 (Fri, 25 Jul 2025) EndedAt: 2025-07-25 09:39:00 -0400 (Fri, 25 Jul 2025) EllapsedTime: 24.9 seconds RetCode: 0 Status: OK PackageFile: MetaNeighbor_1.29.0.zip PackageFileSize: 4.17 MiB