Package: MetaNeighbor Version: 1.29.0 Command: /Library/Frameworks/R.framework/Resources/bin/R CMD build --keep-empty-dirs --no-resave-data MetaNeighbor StartedAt: 2025-07-15 17:39:32 -0400 (Tue, 15 Jul 2025) EndedAt: 2025-07-15 17:40:15 -0400 (Tue, 15 Jul 2025) EllapsedTime: 42.3 seconds RetCode: 0 Status: OK PackageFile: MetaNeighbor_1.29.0.tar.gz PackageFileSize: 3.194 MiB