Package: MetaNeighbor Version: 1.29.0 Command: /Library/Frameworks/R.framework/Resources/bin/R CMD INSTALL MetaNeighbor StartedAt: 2025-07-01 15:11:07 -0400 (Tue, 01 Jul 2025) EndedAt: 2025-07-01 15:11:09 -0400 (Tue, 01 Jul 2025) EllapsedTime: 2.1 seconds RetCode: 0 Status: OK