Package: MetaNeighbor Version: 1.29.0 Command: rm -rf MetaNeighbor.buildbin-libdir && mkdir MetaNeighbor.buildbin-libdir && /Users/biocbuild/BBS/utils/build-universal.sh MetaNeighbor_1.29.0.tar.gz /Library/Frameworks/R.framework/Resources/bin/R MetaNeighbor.buildbin-libdir StartedAt: 2025-07-01 22:24:43 -0400 (Tue, 01 Jul 2025) EndedAt: 2025-07-01 22:24:46 -0400 (Tue, 01 Jul 2025) EllapsedTime: 3.1 seconds RetCode: 0 Status: OK PackageFile: MetaNeighbor_1.29.0.tgz PackageFileSize: 4.171 MiB