Package: MetaDICT Version: 0.99.4 Command: /home/biocbuild/R/R/bin/R CMD INSTALL MetaDICT StartedAt: 2025-10-06 20:19:31 -0000 (Mon, 06 Oct 2025) EndedAt: 2025-10-06 20:19:55 -0000 (Mon, 06 Oct 2025) EllapsedTime: 24.5 seconds RetCode: 0 Status: OK