Package: MetaDICT Version: 0.99.4 Command: /home/biocbuild/R/R/bin/R CMD check --install=check:MetaDICT.install-out.txt --library=/home/biocbuild/R/R/site-library --no-vignettes --timings MetaDICT_0.99.4.tar.gz StartedAt: 2025-10-07 09:27:07 -0000 (Tue, 07 Oct 2025) EndedAt: 2025-10-07 09:32:52 -0000 (Tue, 07 Oct 2025) EllapsedTime: 345.3 seconds RetCode: 0 Status: OK CheckDir: MetaDICT.Rcheck Warnings: 0