Package: MetaDICT Version: 0.99.4 Command: /home/biocbuild/bbs-3.22-bioc/R/bin/R CMD check --install=check:MetaDICT.install-out.txt --library=/home/biocbuild/bbs-3.22-bioc/R/site-library --timings MetaDICT_0.99.4.tar.gz StartedAt: 2025-10-07 01:29:37 -0400 (Tue, 07 Oct 2025) EndedAt: 2025-10-07 01:45:04 -0400 (Tue, 07 Oct 2025) EllapsedTime: 927.8 seconds RetCode: 0 Status: OK CheckDir: MetaDICT.Rcheck Warnings: 0