Package: MetaDICT Version: 0.99.4 Command: /Library/Frameworks/R.framework/Resources/bin/R CMD INSTALL MetaDICT StartedAt: 2025-10-05 15:11:59 -0400 (Sun, 05 Oct 2025) EndedAt: 2025-10-05 15:12:21 -0400 (Sun, 05 Oct 2025) EllapsedTime: 21.9 seconds RetCode: 0 Status: OK