Package: MetaDICT Version: 0.99.4 Command: /Library/Frameworks/R.framework/Resources/bin/R CMD check --install=check:MetaDICT.install-out.txt --library=/Library/Frameworks/R.framework/Resources/library --no-vignettes --timings MetaDICT_0.99.4.tar.gz StartedAt: 2025-10-06 22:45:52 -0400 (Mon, 06 Oct 2025) EndedAt: 2025-10-06 22:51:36 -0400 (Mon, 06 Oct 2025) EllapsedTime: 344.2 seconds RetCode: 0 Status: OK CheckDir: MetaDICT.Rcheck Warnings: 0