Package: MetaDICT Version: 0.99.4 Command: /Library/Frameworks/R.framework/Resources/bin/R CMD build --keep-empty-dirs --no-resave-data MetaDICT StartedAt: 2025-10-05 17:44:29 -0400 (Sun, 05 Oct 2025) EndedAt: 2025-10-05 17:52:03 -0400 (Sun, 05 Oct 2025) EllapsedTime: 454.2 seconds RetCode: 0 Status: OK PackageFile: MetaDICT_0.99.4.tar.gz PackageFileSize: 2.202 MiB